BEGIN:VCALENDAR
VERSION:2.0
PRODID:-//Antonio D&#039;Alessandro - ECPv4.9.14//NONSGML v1.0//EN
CALSCALE:GREGORIAN
METHOD:PUBLISH
X-WR-CALNAME:Antonio D&#039;Alessandro
X-ORIGINAL-URL:https://www.antoniodalessandro.it
X-WR-CALDESC:Eventi per Antonio D&#039;Alessandro
BEGIN:VTIMEZONE
TZID:UTC
BEGIN:STANDARD
TZOFFSETFROM:+0000
TZOFFSETTO:+0000
TZNAME:UTC
DTSTART:20260101T000000
END:STANDARD
END:VTIMEZONE
BEGIN:VEVENT
DTSTART;TZID=UTC:20260214T180000
DTEND;TZID=UTC:20260214T183000
DTSTAMP:20260422T210242
CREATED:20260210T114618Z
LAST-MODIFIED:20260210T114618Z
UID:1548-1771092000-1771093800@www.antoniodalessandro.it
SUMMARY:Una serenata per... - Concerto al Museo della musica di Brescia
DESCRIPTION:Sabato 14 febbraio alle 18 al Museo della musica di Brescia\, in via Trieste\, 34\, Antonio D’Alessandro terrà un breve concerto dal titolo “Una serenata per…”\, in occasione dell’apertura del Museo per le consuete visite gratuite organizzate tutti i pomeriggi del sabato\, e nel giorno in cui si festeggia San Valentino. D’Alessandro proporrà alcune pagine dal carattere romantico e nostalgico del compositore e chitarrista Francisco Tárrega (1852-1909)\, con pagine che il  maestro catalano dedicò a donne che frequentavano il suo salotto e ambienti musicalo alla fine del 1800 \, condivisi con eminenti compositori come Isaac Albéniz\, Joaquin Valverde\, Enrique Granados. Brani celebri per la loro bellezza e per la linea melodica poetica e intimamente romantica\, come le Quattro Mazurke (Adelita\, Marieta\, Mazurca en Sol\, Sueño)\, e la celebre “serenata” Capricho Árabe. Quest’ultima\, inizialmente dedicata a un’allieva che – secondo la tradizione – non ricambiò le attenzioni affettuose del maestro\, fu successivamente modificata nella sua parte iniziale con l’introduzione di un accordo eseguito in armonici naturali e di una serie di scale virtuosistiche che conducono a un tema nostalgico e pacato\, sostenuto da un ritmo altalenante\, che ricorda il passo lento e malinconico dei dromedari che attraversano le dune dei deserti d’Arabia… Le opere di Francisco Tárrega saranno precedute da un delicato Preludio op. 241 n. 5 di Ferdinando Carulli\, che D’Alessandro suonerà su una chitarra di liutaio anonimo della metà dell’Ottocento\, recentemente restaurata dal liutaio Guillermo Pablo Calabrese. \nL’ingresso è gratuito\, ma è consigliabile la prenotazione con un messaggio WhatsApp al 347 0789481\, oppure inviando una mail a info@museomusicalebresciano.it. \n
URL:https://www.antoniodalessandro.it/evento/una-serenata-per-concerto-al-museo-della-musica-di-brescia/
LOCATION:Museo della musica di Brescia\, via Trieste\, 34\, Brescia\, BS\, 25121\, Italia
END:VEVENT
END:VCALENDAR