BEGIN:VCALENDAR
VERSION:2.0
PRODID:-//Antonio D&#039;Alessandro - ECPv4.9.14//NONSGML v1.0//EN
CALSCALE:GREGORIAN
METHOD:PUBLISH
X-WR-CALNAME:Antonio D&#039;Alessandro
X-ORIGINAL-URL:https://www.antoniodalessandro.it
X-WR-CALDESC:Eventi per Antonio D&#039;Alessandro
BEGIN:VTIMEZONE
TZID:UTC
BEGIN:STANDARD
TZOFFSETFROM:+0000
TZOFFSETTO:+0000
TZNAME:UTC
DTSTART:20250101T000000
END:STANDARD
END:VTIMEZONE
BEGIN:VEVENT
DTSTART;TZID=UTC:20251116T163000
DTEND;TZID=UTC:20251116T173000
DTSTAMP:20260422T175042
CREATED:20251110T114827Z
LAST-MODIFIED:20251110T114846Z
UID:1516-1763310600-1763314200@www.antoniodalessandro.it
SUMMARY:Concerto del duo Casarotto D'Alessandro\, contrabbasso e chitarra\, a Buscoldo (MN)
DESCRIPTION:Concerto del duo contrabbasso e chitarra costituito da Andrea Casarotto e Antonio D’Alessandro\, del duo violoncello e fisarmonica\, Giordano Pegoraro e Daniela Adami\, al teatro Giuseppe Verdi a Buscoldo (MN). \n  \nDouble virtuoso works – Casarotto e D’Alessandro \nNicolò Paganini: Variazioni su un tema di Rossini \nGiovanni Bottesini: Elegia in re e Tarantella \nGaetano Troccoli: Romanza – für Zerbrochenes Haus \nDUO MARGOT – Adami e Pegoraro \nFisarmonica e Violoncello \nJ. Pachelbel: Canone in re \nJ. S. Bach: Sinfonia \nD. Shostakovich: Valzer nr. 2 \nYann Tiersen: Le valse d’Amelie \nG. Reverberi\, L. Giordano: Oboe d’amore \nE. Morricone: Gabriel’s oboe\, C’era una volta il west \nE. Bernagozzi: Japanese song \nR. Lovland: Il giardino segreto \nG. Reverberi\, L. Giordano: Odissea veneziana \n  \n  \n
URL:https://www.antoniodalessandro.it/evento/concerto-del-duo-casarotto-dalessandro-contrabbasso-e-chitarra-a-buscoldo-mn/
LOCATION:teatro Giuseppe Verdi\, via Sacca\, 2\, Buscoldo\, MN\, 46010\, Italia
END:VEVENT
END:VCALENDAR