BEGIN:VCALENDAR
VERSION:2.0
PRODID:-//Antonio D&#039;Alessandro - ECPv4.9.14//NONSGML v1.0//EN
CALSCALE:GREGORIAN
METHOD:PUBLISH
X-WR-CALNAME:Antonio D&#039;Alessandro
X-ORIGINAL-URL:https://www.antoniodalessandro.it
X-WR-CALDESC:Eventi per Antonio D&#039;Alessandro
BEGIN:VTIMEZONE
TZID:UTC
BEGIN:STANDARD
TZOFFSETFROM:+0000
TZOFFSETTO:+0000
TZNAME:UTC
DTSTART:20250101T000000
END:STANDARD
END:VTIMEZONE
BEGIN:VEVENT
DTSTART;TZID=UTC:20251024T200000
DTEND;TZID=UTC:20251024T200000
DTSTAMP:20260422T210733
CREATED:20251004T175247Z
LAST-MODIFIED:20251004T175247Z
UID:1506-1761336000-1761336000@www.antoniodalessandro.it
SUMMARY:Concerto a Salò (BS)
DESCRIPTION:In occasione dell’Omaggio a Mauro Fantinelli\, nella Sala dei Provveditori all’interno del palazzo municipale di Salò (BS)\, concerto di Antonio D’Alessandro\, Giada Guerini e Giorgio Colleoni. \nProgramma di sala: \nFerdinando Carulli: La Tempesta – Sonata Sentimentale per chitarra a solo (op.2) \nGiovanni Podera: Omaggio a Benvenuto Terzi (Preludio Breve) \n(Antonio D’Alessandro\, chitarra) \nHeitor Villa-Lobos: Chôros n.1 \nLuigi Legnani: Capricci n. 13 e n. 15 dall’Op. 20 \nFranco Margola: Studio n. 12 dai 19 studi per chitarra \nAgustín Barrios Mangoré: La Catedral (Preludio Saudade\, Andante Religioso\, Allegro Solemne) \n(Giada Guerini\, chitarra\, vincitrice del 1° Premio al Concorso Internazionale Franco Margola – ed. 2025) \nFranz Liszt: Venezia e Napoli da Années de pèlérinage\, Vol. II\, S 162 \n(Giorgio Colleoni\, pianoforte\, 1° Premio al Concorso Internazionale Franco Margola – ed. 2025)) \n
URL:https://www.antoniodalessandro.it/evento/concerto-a-salo-bs/
LOCATION:Sala dei Provveditori\, Via Lungo Lago Zanardelli\, 16\, Salò\, BS\, 25087\, Italia
END:VEVENT
END:VCALENDAR