BEGIN:VCALENDAR
VERSION:2.0
PRODID:-//Antonio D&#039;Alessandro - ECPv4.9.14//NONSGML v1.0//EN
CALSCALE:GREGORIAN
METHOD:PUBLISH
X-WR-CALNAME:Antonio D&#039;Alessandro
X-ORIGINAL-URL:https://www.antoniodalessandro.it
X-WR-CALDESC:Eventi per Antonio D&#039;Alessandro
BEGIN:VTIMEZONE
TZID:UTC
BEGIN:STANDARD
TZOFFSETFROM:+0000
TZOFFSETTO:+0000
TZNAME:UTC
DTSTART:20260101T000000
END:STANDARD
END:VTIMEZONE
BEGIN:VEVENT
DTSTART;TZID=UTC:20260328T180000
DTEND;TZID=UTC:20260328T190000
DTSTAMP:20260422T192457
CREATED:20260308T175052Z
LAST-MODIFIED:20260308T175212Z
UID:1552-1774720800-1774724400@www.antoniodalessandro.it
SUMMARY:Concerto a Brescia - Inaugurazione del festival Omaggio a Virginio Cattaneo
DESCRIPTION:Sabato 28 marzo alle 18 nel Salone Mario Piazza della sede di Fondazione Civiltà Bresciana in vicolo San Giuseppe\, 5 a Brescia\, concerto inaugurale del festival Omaggio a Virginio Cattaneo. \n  \nProgramma di sala: \nFerdinando Carulli: La Tempesta – Sonata sentimentale per chitarra sola (tratta dal manoscritto originale) \nFrancisco Tarrega: Quattro Mazurke (Adelita\, Marieta\, Mazurka en Sol e Sueno)\, Capricho Árabe \nEnrique Granados: Danza Spagnola n. 5 \nFranco Margola: Notturno (tratto dal manoscritto originale) \nJoaquin Turina: Sevillana (tratto dal manoscritto originale) \n  \n
URL:https://www.antoniodalessandro.it/evento/concerto-a-brescia-inaugurazione-dellomaggio-a-virginio-cattaneo-festival/
LOCATION:Fondazione Civiltà Bresciana\, vicolo San Giuseppe\, 5\, Brescia\, Brescia\, 25121\, Italia
END:VEVENT
END:VCALENDAR